BEGIN:VCALENDAR
VERSION:2.0
PRODID:-//die ZüKK - ECPv6.15.20//NONSGML v1.0//EN
CALSCALE:GREGORIAN
METHOD:PUBLISH
X-WR-CALNAME:die ZüKK
X-ORIGINAL-URL:https://zuekk.new-eu.de
X-WR-CALDESC:Veranstaltungen für die ZüKK
REFRESH-INTERVAL;VALUE=DURATION:PT1H
X-Robots-Tag:noindex
X-PUBLISHED-TTL:PT1H
BEGIN:VTIMEZONE
TZID:Europe/Berlin
BEGIN:DAYLIGHT
TZOFFSETFROM:+0100
TZOFFSETTO:+0200
TZNAME:CEST
DTSTART:20250330T010000
END:DAYLIGHT
BEGIN:STANDARD
TZOFFSETFROM:+0200
TZOFFSETTO:+0100
TZNAME:CET
DTSTART:20251026T010000
END:STANDARD
BEGIN:DAYLIGHT
TZOFFSETFROM:+0100
TZOFFSETTO:+0200
TZNAME:CEST
DTSTART:20260329T010000
END:DAYLIGHT
BEGIN:STANDARD
TZOFFSETFROM:+0200
TZOFFSETTO:+0100
TZNAME:CET
DTSTART:20261025T010000
END:STANDARD
BEGIN:DAYLIGHT
TZOFFSETFROM:+0100
TZOFFSETTO:+0200
TZNAME:CEST
DTSTART:20270328T010000
END:DAYLIGHT
BEGIN:STANDARD
TZOFFSETFROM:+0200
TZOFFSETTO:+0100
TZNAME:CET
DTSTART:20271031T010000
END:STANDARD
BEGIN:DAYLIGHT
TZOFFSETFROM:+0100
TZOFFSETTO:+0200
TZNAME:CEST
DTSTART:20280326T010000
END:DAYLIGHT
BEGIN:STANDARD
TZOFFSETFROM:+0200
TZOFFSETTO:+0100
TZNAME:CET
DTSTART:20281029T010000
END:STANDARD
END:VTIMEZONE
BEGIN:VEVENT
DTSTART;VALUE=DATE:20260427
DTEND;VALUE=DATE:20260501
DTSTAMP:20260421T114811
CREATED:20251201T172058Z
LAST-MODIFIED:20251201T172058Z
UID:2329-1777248000-1777593599@zuekk.new-eu.de
SUMMARY:DQS Audit Mo 27.04.2026 bis einschließlich Do 30.04.2026
DESCRIPTION:
URL:https://zuekk.new-eu.de/event/dqs-audit-mo-27-04-2026-bis-einschliesslich-do-30-04-2026
END:VEVENT
BEGIN:VEVENT
DTSTART;VALUE=DATE:20260509
DTEND;VALUE=DATE:20260510
DTSTAMP:20260421T114811
CREATED:20251201T172126Z
LAST-MODIFIED:20251201T172126Z
UID:2331-1778284800-1778371199@zuekk.new-eu.de
SUMMARY:Blumen und Mehr in Kuchenheim
DESCRIPTION:
URL:https://zuekk.new-eu.de/event/blumen-und-mehr-in-kuchenheim
END:VEVENT
BEGIN:VEVENT
DTSTART;VALUE=DATE:20260515
DTEND;VALUE=DATE:20260516
DTSTAMP:20260421T114811
CREATED:20251201T172153Z
LAST-MODIFIED:20251201T172153Z
UID:2333-1778803200-1778889599@zuekk.new-eu.de
SUMMARY:Brückentag alle Standorte Freitag nach Christi Himmelfahrt
DESCRIPTION:
URL:https://zuekk.new-eu.de/event/brueckentag-alle-standorte-freitag-nach-christi-himmelfahrt
END:VEVENT
BEGIN:VEVENT
DTSTART;VALUE=DATE:20260605
DTEND;VALUE=DATE:20260606
DTSTAMP:20260421T114811
CREATED:20251201T172218Z
LAST-MODIFIED:20251201T172218Z
UID:2335-1780617600-1780703999@zuekk.new-eu.de
SUMMARY:Brückentag alle Standorte Freitag nach Fronleichnam
DESCRIPTION:
URL:https://zuekk.new-eu.de/event/brueckentag-alle-standorte-freitag-nach-fronleichnam
END:VEVENT
BEGIN:VEVENT
DTSTART;VALUE=DATE:20260619
DTEND;VALUE=DATE:20260620
DTSTAMP:20260421T114811
CREATED:20251201T172245Z
LAST-MODIFIED:20251201T172245Z
UID:2337-1781827200-1781913599@zuekk.new-eu.de
SUMMARY:Sommerfest im QuBi.Eifel Mechernich
DESCRIPTION:
URL:https://zuekk.new-eu.de/event/sommerfest-im-qubi-eifel-mechernich
END:VEVENT
BEGIN:VEVENT
DTSTART;TZID=Europe/Berlin:20260626T080000
DTEND;TZID=Europe/Berlin:20260626T170000
DTSTAMP:20260421T114811
CREATED:20251201T172303Z
LAST-MODIFIED:20251201T172303Z
UID:2339-1782460800-1782493200@zuekk.new-eu.de
SUMMARY:Sommerfest Kuchenheim und Sommerfest Zingsheim
DESCRIPTION:
URL:https://zuekk.new-eu.de/event/sommerfest-kuchenheim-und-sommerfest-zingsheim
END:VEVENT
BEGIN:VEVENT
DTSTART;TZID=Europe/Berlin:20260703T080000
DTEND;TZID=Europe/Berlin:20260703T170000
DTSTAMP:20260421T114811
CREATED:20251201T172319Z
LAST-MODIFIED:20251201T172319Z
UID:2341-1783065600-1783098000@zuekk.new-eu.de
SUMMARY:Sommerfest Kall
DESCRIPTION:
URL:https://zuekk.new-eu.de/event/sommerfest-kall
END:VEVENT
BEGIN:VEVENT
DTSTART;VALUE=DATE:20260710
DTEND;VALUE=DATE:20260711
DTSTAMP:20260421T114811
CREATED:20251201T172414Z
LAST-MODIFIED:20251201T172437Z
UID:2346-1783641600-1783727999@zuekk.new-eu.de
SUMMARY:Zertifikatsfeier 1 im QuBi. Eifel Mechernich
DESCRIPTION:
URL:https://zuekk.new-eu.de/event/zertifikatsfeier-1-im-qubi-eifel-mechernich
END:VEVENT
BEGIN:VEVENT
DTSTART;TZID=Europe/Berlin:20260710T080000
DTEND;TZID=Europe/Berlin:20260710T170000
DTSTAMP:20260421T114811
CREATED:20251201T172338Z
LAST-MODIFIED:20251201T172338Z
UID:2343-1783670400-1783702800@zuekk.new-eu.de
SUMMARY:Sommerfest Ülpenich
DESCRIPTION:
URL:https://zuekk.new-eu.de/event/sommerfest-uelpenich
END:VEVENT
BEGIN:VEVENT
DTSTART;VALUE=DATE:20260910
DTEND;VALUE=DATE:20260911
DTSTAMP:20260421T114811
CREATED:20251201T172432Z
LAST-MODIFIED:20251201T172432Z
UID:2345-1788998400-1789084799@zuekk.new-eu.de
SUMMARY:Jubilarfeier Ülpenich
DESCRIPTION:
URL:https://zuekk.new-eu.de/event/jubilarfeier-uelpenich
END:VEVENT
BEGIN:VEVENT
DTSTART;VALUE=DATE:20260924
DTEND;VALUE=DATE:20260925
DTSTAMP:20260421T114811
CREATED:20251201T172508Z
LAST-MODIFIED:20251201T172508Z
UID:2349-1790208000-1790294399@zuekk.new-eu.de
SUMMARY:Bundesweite Aktion Schichtwechsel
DESCRIPTION:
URL:https://zuekk.new-eu.de/event/bundesweite-aktion-schichtwechsel
END:VEVENT
BEGIN:VEVENT
DTSTART;VALUE=DATE:20261015
DTEND;VALUE=DATE:20261016
DTSTAMP:20260421T114811
CREATED:20251201T172535Z
LAST-MODIFIED:20251201T172535Z
UID:2352-1792022400-1792108799@zuekk.new-eu.de
SUMMARY:Jubilarfeier Zingsheim
DESCRIPTION:
URL:https://zuekk.new-eu.de/event/jubilarfeier-zingsheim
END:VEVENT
BEGIN:VEVENT
DTSTART;VALUE=DATE:20261121
DTEND;VALUE=DATE:20261122
DTSTAMP:20260421T114811
CREATED:20251201T172555Z
LAST-MODIFIED:20251201T172555Z
UID:2351-1795219200-1795305599@zuekk.new-eu.de
SUMMARY:Adventsmarkt im QuBi.Eifel Mechernich
DESCRIPTION:
URL:https://zuekk.new-eu.de/event/adventsmarkt-im-qubi-eifel-mechernich
END:VEVENT
BEGIN:VEVENT
DTSTART;VALUE=DATE:20261212
DTEND;VALUE=DATE:20261213
DTSTAMP:20260421T114811
CREATED:20251201T172640Z
LAST-MODIFIED:20251201T172640Z
UID:2355-1797033600-1797119999@zuekk.new-eu.de
SUMMARY:Weihnachtsbaumverkauf in Kall und Kuchenheim
DESCRIPTION:
URL:https://zuekk.new-eu.de/event/weihnachtsbaumverkauf-in-kall-und-kuchenheim
END:VEVENT
BEGIN:VEVENT
DTSTART;VALUE=DATE:20261223
DTEND;VALUE=DATE:20261224
DTSTAMP:20260421T114811
CREATED:20251201T172724Z
LAST-MODIFIED:20251201T172724Z
UID:2357-1797984000-1798070399@zuekk.new-eu.de
SUMMARY:Letzter Arbeitstag (Weihnachtsfeier)
DESCRIPTION:
URL:https://zuekk.new-eu.de/event/letzter-arbeitstag-weihnachtsfeier
END:VEVENT
BEGIN:VEVENT
DTSTART;VALUE=DATE:20261223
DTEND;VALUE=DATE:20261224
DTSTAMP:20260421T114811
CREATED:20251201T172744Z
LAST-MODIFIED:20251201T172744Z
UID:2358-1797984000-1798070399@zuekk.new-eu.de
SUMMARY:Jubilarfeier Kall im Rahmen der Weihnachtsfeier
DESCRIPTION:
URL:https://zuekk.new-eu.de/event/jubilarfeier-kall-im-rahmen-der-weihnachtsfeier
END:VEVENT
BEGIN:VEVENT
DTSTART;VALUE=DATE:20261224
DTEND;VALUE=DATE:20270102
DTSTAMP:20260421T114811
CREATED:20251201T172819Z
LAST-MODIFIED:20251201T172819Z
UID:2360-1798070400-1798847999@zuekk.new-eu.de
SUMMARY:Betriebsschließung alle Standorte Weihnachten (3 Urlaubstage in 2026)
DESCRIPTION:
URL:https://zuekk.new-eu.de/event/betriebsschliessung-alle-standorte-weihnachten-3-urlaubstage-in-2026
END:VEVENT
BEGIN:VEVENT
DTSTART;VALUE=DATE:20270104
DTEND;VALUE=DATE:20270105
DTSTAMP:20260421T114811
CREATED:20251201T172911Z
LAST-MODIFIED:20251201T172911Z
UID:2363-1799020800-1799107199@zuekk.new-eu.de
SUMMARY:Arbeitsbeginn in 2027 am Montag 04.01.2027
DESCRIPTION:
URL:https://zuekk.new-eu.de/event/arbeitsbeginn-in-2027-am-montag-04-01-2027
END:VEVENT
END:VCALENDAR